BEGIN:VCALENDAR
VERSION:2.0
PRODID:-//wp-events-plugin.com//7.2.3.1//EN
TZID:America/Toronto
X-WR-TIMEZONE:America/Toronto
BEGIN:VEVENT
UID:0-60@nabs.org
DTSTART;TZID=America/Toronto:20260521T000000
DTEND;TZID=America/Toronto:20260521T000000
DTSTAMP:20260218T163000Z
URL:https://nabs.org/fr/events/la-journee-numerique-de-ladclub-de-toronto/
SUMMARY:La Journée numérique de l’AdClub de Toronto
DESCRIPTION:Nous réinventons Digital Day comme jamais auparavant. L’édi
 tion 2026 fera ses débuts avec un tout nouveau format de type festival 
 — une expérience immersive et énergique placée sous le thème de « C
 onversations honnêtes ».\nAttendez-vous à des panels audacieux\, des d
 ébats en direct\, des espaces Innovation et des activations de marque int
 eractives qui fusionnent la ad tech\, la créativité et la culture comme 
 jamais auparavant.
ATTACH;FMTTYPE=image/jpeg:https://nabs.org/fr/wp-content/uploads/sites/3/2
 026/02/Website-Workshops-2026-2-copy.png
CATEGORIES:Home Page,Ontario
END:VEVENT
BEGIN:VTIMEZONE
TZID:America/Toronto
X-LIC-LOCATION:America/Toronto
BEGIN:DAYLIGHT
DTSTART:20260308T030000
TZOFFSETFROM:-0500
TZOFFSETTO:-0400
TZNAME:EDT
END:DAYLIGHT
END:VTIMEZONE
END:VCALENDAR