BEGIN:VCALENDAR
VERSION:2.0
PRODID:-//wp-events-plugin.com//7.2.3.1//EN
TZID:America/Toronto
X-WR-TIMEZONE:America/Toronto
BEGIN:VEVENT
UID:0-59@nabs.org
DTSTART;TZID=America/Toronto:20260416T000000
DTEND;TZID=America/Toronto:20260416T000000
DTSTAMP:20260218T162945Z
URL:https://nabs.org/fr/events/digital-day-camp-next/
SUMMARY:Digital Day Camp Next
DESCRIPTION:** NOUVEAUTÉ 2026 **\nUne deuxième journée qui s’appuie su
 r l’élan créé lors de la première\, en transformant la stratégie en
  action. Au programme : résolution concrète de problèmes\, témoignages
  d’opérateurs sur le terrain\, mentorat et guides pratiques que les par
 ticipant·e·s pourront rapporter et appliquer au sein de leurs propres é
 quipes.\nAu lieu de sacs-cadeaux pour cet événement\, un don significati
 f est versé à NABS-BEC\, faisant de Digital Day Camp l’une de nos coll
 ectes de fonds les plus marquantes.
ATTACH;FMTTYPE=image/jpeg:https://nabs.org/fr/wp-content/uploads/sites/3/2
 026/02/ddc26_tt_inlinw_2_1920x1440.png.avif
CATEGORIES:Home Page,Ontario
END:VEVENT
BEGIN:VTIMEZONE
TZID:America/Toronto
X-LIC-LOCATION:America/Toronto
BEGIN:DAYLIGHT
DTSTART:20260308T030000
TZOFFSETFROM:-0500
TZOFFSETTO:-0400
TZNAME:EDT
END:DAYLIGHT
END:VTIMEZONE
END:VCALENDAR