BEGIN:VCALENDAR
VERSION:2.0
PRODID:-//wp-events-plugin.com//7.2.3.1//EN
TZID:America/Toronto
X-WR-TIMEZONE:America/Toronto
BEGIN:VEVENT
UID:0-58@nabs.org
DTSTART;TZID=America/Toronto:20260415T000000
DTEND;TZID=America/Toronto:20260415T000000
DTSTAMP:20260218T162929Z
URL:https://nabs.org/fr/events/digital-day-camp-leadership/
SUMMARY:Digital Day Camp Leadership
DESCRIPTION:Cette journée rassemble les leaders de l’industrie et trace 
 la voie des médias numériques au Canada\, en remettant en question les i
 dées reçues et en s’alignant sur les changements nécessaires grâce a
 ux perspectives et aux discussions des plus grands leaders du secteur.\nAu
  lieu de sacs-cadeaux\, un don significatif est versé à NABS-BEC\, faisa
 nt de Digital Day Camp l’une de nos collectes de fonds les plus marquant
 es.
ATTACH;FMTTYPE=image/jpeg:https://nabs.org/fr/wp-content/uploads/sites/3/2
 026/02/ddc26_tt_inlinw_1_1920x1440.png.avif
CATEGORIES:Home Page,Ontario
END:VEVENT
BEGIN:VTIMEZONE
TZID:America/Toronto
X-LIC-LOCATION:America/Toronto
BEGIN:DAYLIGHT
DTSTART:20260308T030000
TZOFFSETFROM:-0500
TZOFFSETTO:-0400
TZNAME:EDT
END:DAYLIGHT
END:VTIMEZONE
END:VCALENDAR