BEGIN:VCALENDAR
VERSION:2.0
PRODID:-//wp-events-plugin.com//7.2.3.1//EN
TZID:America/Toronto
X-WR-TIMEZONE:America/Toronto
BEGIN:VEVENT
UID:0-67@nabs.org
DTSTART;TZID=America/Toronto:20260416T120000
DTEND;TZID=America/Toronto:20260416T133000
DTSTAMP:20260324T012815Z
URL:https://nabs.org/fr/events/atelier-de-carriere-gratuits-perte-demploi-
 de-defi-a-opportunite/
SUMMARY:ATELIER CARRIÈRE GRATUIT : Perte d’emploi: de défi à opportuni
 té
DESCRIPTION:Un atelier inspirant conçu pour soutenir les professionnel·le
 ·s qui traversent les impacts émotionnels et pratiques d’une perte d
 ’emploi ou d’une transition de carrière. Les participant·e·s appren
 dront à changer de perspective afin de transformer ce moment difficile en
  une occasion de croissance. La séance mettra l’accent sur l’autoéva
 luation et la redéfinition authentique de son identité professionnelle.\
 n\nAnimé par Sylvia Galinier
ATTACH;FMTTYPE=image/jpeg:https://nabs.org/fr/wp-content/uploads/sites/3/2
 026/03/9.png
CATEGORIES:Home Page,Quebec
END:VEVENT
BEGIN:VTIMEZONE
TZID:America/Toronto
X-LIC-LOCATION:America/Toronto
BEGIN:DAYLIGHT
DTSTART:20260308T030000
TZOFFSETFROM:-0500
TZOFFSETTO:-0400
TZNAME:EDT
END:DAYLIGHT
END:VTIMEZONE
END:VCALENDAR