BEGIN:VCALENDAR
VERSION:2.0
PRODID:-//wp-events-plugin.com//7.2.3.1//EN
TZID:America/Toronto
X-WR-TIMEZONE:America/Toronto
BEGIN:VEVENT
UID:0-68@nabs.org
DTSTART;TZID=America/Toronto:20260528T000000
DTEND;TZID=America/Toronto:20260528T000000
DTSTAMP:20260324T015506Z
URL:https://nabs.org/fr/events/atelier-carriere-gratuit-interview-skills-p
 reparation/
SUMMARY:ATELIER CARRIÈRE GRATUIT : Interview Skills &amp\; Preparation
DESCRIPTION:Cet atelier interactif est conçu pour aider les participant·e
 ·s à naviguer avec confiance chaque étape du processus d’entrevue. Le
 s personnes participantes apprendront à se préparer de façon stratégiq
 ue au-delà de la description de poste\, à formuler des réponses convain
 cantes et authentiques à l’aide de la méthode STAR\, et à communiquer
  leur expérience avec clarté et impact.\nAtelier en anglais. \nAnimé p
 ar Sherry Azim
ATTACH;FMTTYPE=image/jpeg:https://nabs.org/fr/wp-content/uploads/sites/3/2
 026/03/12.png
CATEGORIES:Home Page,Ontario,West
END:VEVENT
BEGIN:VTIMEZONE
TZID:America/Toronto
X-LIC-LOCATION:America/Toronto
BEGIN:DAYLIGHT
DTSTART:20260308T030000
TZOFFSETFROM:-0500
TZOFFSETTO:-0400
TZNAME:EDT
END:DAYLIGHT
END:VTIMEZONE
END:VCALENDAR