BEGIN:VCALENDAR
VERSION:2.0
PRODID:-//wp-events-plugin.com//7.2.3.1//EN
TZID:America/Toronto
X-WR-TIMEZONE:America/Toronto
BEGIN:VEVENT
UID:0-66@nabs.org
DTSTART;TZID=America/Toronto:20260422T120000
DTEND;TZID=America/Toronto:20260422T133000
DTSTAMP:20260324T012226Z
URL:https://nabs.org/fr/events/atelier-bien-etre-gratuit-navigating-bounda
 ries-and-power-dynamics/
SUMMARY:ATELIER BIEN-ÊTRE GRATUIT : Navigating Boundaries and Power Dynami
 cs
DESCRIPTION:De nombreuses personnes ont de la difficulté à savoir comment
  réagir lorsque leurs limites sont dépassées\, surtout dans des context
 es où les rapports de pouvoir rendent la prise de parole plus difficile. 
 Se faire demander d’assumer des responsabilités supplémentaires alors 
 qu’on est déjà débordé·e\, ou devoir composer avec des attentes irr
 éalistes\, peut laisser les individus coincé·e·s\, incertain·e·s et 
 craintif·ve·s face aux conséquences d’aborder la situation.\nAtelier 
 en anglais. \nAnimé par Catherine Lévesque\, psychothérapeute autoris
 ée (stagiaire)
ATTACH;FMTTYPE=image/jpeg:https://nabs.org/fr/wp-content/uploads/sites/3/2
 026/03/10.png
CATEGORIES:Home Page,Ontario,West
END:VEVENT
BEGIN:VTIMEZONE
TZID:America/Toronto
X-LIC-LOCATION:America/Toronto
BEGIN:DAYLIGHT
DTSTART:20260308T030000
TZOFFSETFROM:-0500
TZOFFSETTO:-0400
TZNAME:EDT
END:DAYLIGHT
END:VTIMEZONE
END:VCALENDAR