BEGIN:VCALENDAR
VERSION:2.0
PRODID:-//wp-events-plugin.com//7.2.3.1//EN
TZID:America/Toronto
X-WR-TIMEZONE:America/Toronto
BEGIN:VEVENT
UID:0-43@nabs.org
DTSTART;TZID=America/Toronto;VALUE=DATE:20250911
DTEND;TZID=America/Toronto;VALUE=DATE:20250912
DTSTAMP:20250826T021234Z
URL:https://nabs.org/events/workshop-build-your-brand-boost-your-career/
SUMMARY:Workshop: Build Your Brand\, Boost Your Career
DESCRIPTION:Join this workshop to learn how to define your personal and pro
 fessional brand. You'll explore how to craft a compelling online presence\
 , and develop key messaging that effectively communicates your strengths a
 nd values.\nWorkshop Facilitator: Katja Trmcic
ATTACH;FMTTYPE=image/jpeg:https://nabs.org/wp-content/uploads/2025/08/10-1
 .png
CATEGORIES:Home Page,Ontario,West
END:VEVENT
BEGIN:VTIMEZONE
TZID:America/Toronto
X-LIC-LOCATION:America/Toronto
BEGIN:DAYLIGHT
DTSTART:20250309T030000
TZOFFSETFROM:-0500
TZOFFSETTO:-0400
TZNAME:EDT
END:DAYLIGHT
END:VTIMEZONE
END:VCALENDAR