BEGIN:VCALENDAR
VERSION:2.0
PRODID:-//wp-events-plugin.com//7.2.3.1//EN
TZID:America/Toronto
X-WR-TIMEZONE:America/Toronto
BEGIN:VEVENT
UID:0-1@nabs.org
DTSTART;TZID=America/Toronto;VALUE=DATE:20240718
DTEND;TZID=America/Toronto;VALUE=DATE:20240719
DTSTAMP:20240702T191200Z
URL:https://nabs.org/events/volleybec/
SUMMARY:ABCOM & NABS Golf Tournament presented by PS&Co and OMD
DESCRIPTION:We are excited to see Marketing &amp\; Advertising Community co
 me together on July 18th for the annual ABCOM NABS Golf Tournament\, prese
 nted by PS&amp\;Co and OMD. Thank you for selling out the Golf Tournament
 ! Don't miss out on the dinner fun – Limited dinner-only tickets still a
 vailable until July 9th
ATTACH;FMTTYPE=image/jpeg:https://nabs.org/wp-content/uploads/2024/06/ABCO
 M-Golf-Tournament.png
CATEGORIES:Home Page,West
END:VEVENT
BEGIN:VTIMEZONE
TZID:America/Toronto
X-LIC-LOCATION:America/Toronto
BEGIN:DAYLIGHT
DTSTART:20240310T030000
TZOFFSETFROM:-0500
TZOFFSETTO:-0400
TZNAME:EDT
END:DAYLIGHT
END:VTIMEZONE
END:VCALENDAR