BEGIN:VCALENDAR
VERSION:2.0
PRODID:-//wp-events-plugin.com//7.2.3.1//EN
TZID:America/Toronto
X-WR-TIMEZONE:America/Toronto
BEGIN:VEVENT
UID:0-38@nabs.org
DTSTART;TZID=America/Toronto;VALUE=DATE:20250808
DTEND;TZID=America/Toronto;VALUE=DATE:20250809
DTSTAMP:20250609T140149Z
URL:https://nabs.org/events/volleybec-2/
SUMMARY:Volleybec
DESCRIPTION:It’s time to sign up for the 15th edition of VolleyBEC\, pres
 ented by Vistar Media\, happening this August 8th! This friendly beach vol
 leyball tournament brings together over 300 communications and marketing p
 rofessionals in a festive\, welcoming\, and purpose-driven atmosphere.
ATTACH;FMTTYPE=image/jpeg:https://nabs.org/wp-content/uploads/2025/06/IGPO
 STS_VOLLEYBEC-1080-x-1080-px.png
CATEGORIES:Home Page,Quebec
END:VEVENT
BEGIN:VTIMEZONE
TZID:America/Toronto
X-LIC-LOCATION:America/Toronto
BEGIN:DAYLIGHT
DTSTART:20250309T030000
TZOFFSETFROM:-0500
TZOFFSETTO:-0400
TZNAME:EDT
END:DAYLIGHT
END:VTIMEZONE
END:VCALENDAR