BEGIN:VCALENDAR
VERSION:2.0
PRODID:-//wp-events-plugin.com//7.2.3.1//EN
TZID:America/Toronto
X-WR-TIMEZONE:America/Toronto
BEGIN:VEVENT
UID:0-7@nabs.org
DTSTART;TZID=America/Toronto;VALUE=DATE:20240922
DTEND;TZID=America/Toronto;VALUE=DATE:20240923
DTSTAMP:20240916T172801Z
URL:https://nabs.org/events/the-2024-nick-misisco-award-deadline-is-septem
 ber-15th/
SUMMARY:The 2024 Nick Misisco Award Deadline is September 22nd!!
DESCRIPTION:Nick was well-known for his selfless support of non-profits acr
 oss BC\, including NABS. To honor his life and legacy\, each year we award
  those who embody his spirit of giving back to both NABS and the industry 
 community.  To learn more about the award or If you know someone who you'
 d like to nominate\, click the link below.
ATTACH;FMTTYPE=image/jpeg:https://nabs.org/wp-content/uploads/2024/09/NMA-
 2024-Instagram-Square-3.png
CATEGORIES:Home Page,West
END:VEVENT
BEGIN:VTIMEZONE
TZID:America/Toronto
X-LIC-LOCATION:America/Toronto
BEGIN:DAYLIGHT
DTSTART:20240310T030000
TZOFFSETFROM:-0500
TZOFFSETTO:-0400
TZNAME:EDT
END:DAYLIGHT
END:VTIMEZONE
END:VCALENDAR