BEGIN:VCALENDAR
VERSION:2.0
PRODID:-//wp-events-plugin.com//7.2.3.1//EN
TZID:America/Toronto
X-WR-TIMEZONE:America/Toronto
BEGIN:VEVENT
UID:0-3@nabs.org
DTSTART;TZID=America/Toronto;VALUE=DATE:20240919
DTEND;TZID=America/Toronto;VALUE=DATE:20240920
DTSTAMP:20240917T173945Z
URL:https://nabs.org/events/additional-event/
SUMMARY:NABS Online Panel &amp\; Speed Mentoring
DESCRIPTION:Mark your calendars for September 19th and join us for the Onli
 ne Panel and Speed Mentoring event! This exciting opportunity is open to a
 ll marketing\, media\, and communications students and professionals eager
  to boost and enrich their careers.\n\nInterested in sponsoring this event
 ? Please contact Enki Nagano
ATTACH;FMTTYPE=image/jpeg:https://nabs.org/wp-content/uploads/2024/06/Onli
 ne-1.png
CATEGORIES:Home Page,West
END:VEVENT
BEGIN:VTIMEZONE
TZID:America/Toronto
X-LIC-LOCATION:America/Toronto
BEGIN:DAYLIGHT
DTSTART:20240310T030000
TZOFFSETFROM:-0500
TZOFFSETTO:-0400
TZNAME:EDT
END:DAYLIGHT
END:VTIMEZONE
END:VCALENDAR