BEGIN:VCALENDAR
VERSION:2.0
PRODID:-//wp-events-plugin.com//7.2.3.1//EN
TZID:America/Toronto
X-WR-TIMEZONE:America/Toronto
BEGIN:VEVENT
UID:0-14@nabs.org
DTSTART;TZID=America/Toronto;VALUE=DATE:20241120
DTEND;TZID=America/Toronto;VALUE=DATE:20241121
DTSTAMP:20241113T163640Z
URL:https://nabs.org/events/adclub-student-day-2024/
SUMMARY:AdClub Student Day 2024
DESCRIPTION:AdClub Student Day 2024 isn’t just another event—it’s the
  gateway to your media career.\n\nIf you want to break into Media Strategy
 \, Media Buying\, Publishing\, or Creative\, this is where it all starts.
ATTACH;FMTTYPE=image/jpeg:https://nabs.org/wp-content/uploads/2024/11/Unti
 tled-design.jpg
CATEGORIES:Home Page,Ontario
END:VEVENT
BEGIN:VTIMEZONE
TZID:America/Toronto
X-LIC-LOCATION:America/Toronto
BEGIN:STANDARD
DTSTART:20241103T010000
TZOFFSETFROM:-0400
TZOFFSETTO:-0500
TZNAME:EST
END:STANDARD
END:VTIMEZONE
END:VCALENDAR