BEGIN:VCALENDAR
VERSION:2.0
PRODID:-//wp-events-plugin.com//7.2.3.1//EN
TZID:America/Toronto
X-WR-TIMEZONE:America/Toronto
BEGIN:VEVENT
UID:0-5@nabs.org
DTSTART;TZID=America/Toronto;VALUE=DATE:20240703
DTEND;TZID=America/Toronto;VALUE=DATE:20240704
DTSTAMP:20240627T190510Z
URL:https://nabs.org/events/ad-club-sports-series-co-ed-basketball-league-
 2024/
SUMMARY:Ad Club Sports Series: Co-Ed Basketball League 2024
DESCRIPTION:If you are looking for a summer sports league to join\, why don
 't you join the Ad Club's exhilarating summer league 3-on-3 (or 4-on-4) 
 basketball league this year at Stackt Market. Starting Wednesday\, July 3r
 d\, 2024\, and continuing every Wednesday for a 9-week duration\, the cour
 t @ STACKT Market will come alive with the competitive spirit and the love
  of basketball.
ATTACH;FMTTYPE=image/jpeg:https://nabs.org/wp-content/uploads/2024/06/even
 ts_basketball.webp
CATEGORIES:Home Page,Ontario
END:VEVENT
BEGIN:VTIMEZONE
TZID:America/Toronto
X-LIC-LOCATION:America/Toronto
BEGIN:DAYLIGHT
DTSTART:20240310T030000
TZOFFSETFROM:-0500
TZOFFSETTO:-0400
TZNAME:EDT
END:DAYLIGHT
END:VTIMEZONE
END:VCALENDAR