BEGIN:VCALENDAR
VERSION:2.0
PRODID:-//wp-events-plugin.com//7.2.3.1//EN
TZID:America/Toronto
X-WR-TIMEZONE:America/Toronto
BEGIN:VEVENT
UID:0-6@nabs.org
DTSTART;TZID=America/Toronto;VALUE=DATE:20240718
DTEND;TZID=America/Toronto;VALUE=DATE:20240719
DTSTAMP:20240703T142413Z
URL:https://nabs.org/events/ad-club-golf-day-2024/
SUMMARY:AdClub Golf Day 2024
DESCRIPTION:This year\, the AdClub's Golf Day event will take place at the 
 Lionhead Golf Club &amp\; Conference Centre on Thursday July 18\, 2024. En
 joy a round of golf with your clients and colleagues at the must-attend go
 lf event of the summer. There are tons of exciting sponsor activations\, p
 rizes\, giveaways\, food\, drinks\, and memories to be made!
ATTACH;FMTTYPE=image/jpeg:https://nabs.org/wp-content/uploads/2024/06/AdCl
 ub_Newsletter_GolfDay-copy.jpg
CATEGORIES:Home Page,Ontario
END:VEVENT
BEGIN:VTIMEZONE
TZID:America/Toronto
X-LIC-LOCATION:America/Toronto
BEGIN:DAYLIGHT
DTSTART:20240310T030000
TZOFFSETFROM:-0500
TZOFFSETTO:-0400
TZNAME:EDT
END:DAYLIGHT
END:VTIMEZONE
END:VCALENDAR