BEGIN:VCALENDAR
VERSION:2.0
PRODID:-//wp-events-plugin.com//7.2.3.1//EN
TZID:America/Toronto
X-WR-TIMEZONE:America/Toronto
BEGIN:VEVENT
UID:0-4@nabs.org
DTSTART;TZID=America/Toronto;VALUE=DATE:20240809
DTEND;TZID=America/Toronto;VALUE=DATE:20240810
DTSTAMP:20240716T174733Z
URL:https://nabs.org/events/abcom-golf-tournament/
SUMMARY:Volleybec
DESCRIPTION:Come celebrate with us the 15th anniversary of Volleybec on Aug
 ust 9th! This annual friendly beach volleyball tournament brings together 
 over 300 participants each year from the communications and marketing indu
 stry!
ATTACH;FMTTYPE=image/jpeg:https://nabs.org/wp-content/uploads/2024/06/Voll
 eybec-EN.png
CATEGORIES:Home Page,Quebec
END:VEVENT
BEGIN:VTIMEZONE
TZID:America/Toronto
X-LIC-LOCATION:America/Toronto
BEGIN:DAYLIGHT
DTSTART:20240310T030000
TZOFFSETFROM:-0500
TZOFFSETTO:-0400
TZNAME:EDT
END:DAYLIGHT
END:VTIMEZONE
END:VCALENDAR